Workbook

Sheet Instructions
A1: Clarity Calendar A Compass to embark on a week of focused intention and purpose
A3: Step | B3: Tab | C3: Instructions
A4: 1 | B4: 1 | C4: Enter your roles and annual goals on Tab 1 - Annual Goals. You can overwrite the provided examples. The information will automatically populate Tab 2 - Weekly Priorities.
A5: 2 | B5: 2 | C5: Enter your weekly goals by role on Tab 2.
A6: 3 | B6: 2 | C6: Assign a priority level (high, medium, low) to each goal.
A7: 4 | B7: 2 | C7: Review priorities in the context of other commitments. Limit high-priority tasks to a maximum of three.
A8: 5 | B8: 3 | C8: Copy tasks to Wk Planner, scheduling high-priority items earlier in the week and day.
A9: 6 | B9: n/a | C9: Block time on your calendar to accomplish tasks.
A10: 7 | B10: 2 | C10: Move completed tasks to the Accomplishments column. Note successes and challenges.
A11: 8 | B11: Create New | C11: At the end of the week, duplicate the tab (right-click the tab) and set goals for the next week.
A12: 9 | B12: n/a | C12: Reflect and refine your approach.
C14: Note: Enter data in blue-shaded cells. Gray areas are auto-filled from Tab 1 - Annual Goals.

Sheet 1 Annual Goals
A1: Clarity Calendar A compass to embark on a week of focused intention and purpose.
A2: Role | B2: Annual Goal and Category | C2: Priority
A3: Self | B3: Be healthier (mind, body and spirit)
A4: Family and friend | B4: Build stronger relationships
A5: Leader | B5: Spend time on tasks that will move my business forward
A6: Communicator | B6: Be clear and confident about expectations
A7: Organizer | B7: Clear the physical and mental clutter
A8: Financial Management | B8: Understand my financials and increase revenues
A9: Sales and Marketing | B9: Promote my business and services offered to grow business
A10: Customer Relations | B10: Improve customer satisfaction
A11: Add other Roles | B11: Annual Goal
A12: Add Project Name | B12: Add Project Teams you're on and your role
A13: Add Client Name | B13: Type of service offered

Sheet 2 Weekly Priorities
A1: Date | B1: Clarity Calendar A compass to embark on a week of focused intention and purpose.
A2: Role | B2: Annual Goal | C2: Weekly Goal | D2: Priority | E2: Accomplishments | F2: Lessons Learned
A3: ='1 Annual Goals'!A3 -> Self | B3: ='1 Annual Goals'!B3 -> Be healthier (mind, body and spirit)
A4: ='1 Annual Goals'!A4 -> Family and friend | B4: ='1 Annual Goals'!B4 -> Build stronger relationships
A5: ='1 Annual Goals'!A5 -> Leader | B5: ='1 Annual Goals'!B5 -> Spend time on tasks that will move my business forward
A6: ='1 Annual Goals'!A6 -> Communicator | B6: ='1 Annual Goals'!B6 -> Be clear and confident about expectations
A7: ='1 Annual Goals'!A7 -> Organizer | B7: ='1 Annual Goals'!B7 -> Clear the physical and mental clutter
A8: ='1 Annual Goals'!A8 -> Financial Management | B8: ='1 Annual Goals'!B8 -> Understand my financials and increase revenues
A9: ='1 Annual Goals'!A9 -> Sales and Marketing | B9: ='1 Annual Goals'!B9 -> Promote my business and services offered to grow business
A10: ='1 Annual Goals'!A10 -> Customer Relations | B10: ='1 Annual Goals'!B10 -> Improve customer satisfaction
A11: ='1 Annual Goals'!A11 -> Add other Roles | B11: ='1 Annual Goals'!B11 -> Annual Goal
A12: ='1 Annual Goals'!A12 -> Add Project Name | B12: ='1 Annual Goals'!B12 -> Add Project Teams you're on and your role
A13: ='1 Annual Goals'!A13 -> Add Client Name | B13: ='1 Annual Goals'!B13 -> Type of service offered
A14: ='1 Annual Goals'!A14 -> 0 | B14: ='1 Annual Goals'!B14 -> 0
... A40: ='1 Annual Goals'!A40 -> 0 | B40: ='1 Annual Goals'!B40 -> 0

Sheet 3 Wk Planner
A1: Date | B1: Clarity Calendar A compass to embark on a week of focused intention and purpose.
A2: Role | B2: Monday | C2: Tuesday | D2: Wednesday | E2: Thursday | F2: Friday | G2: Saturday | H2: Sunday
A3: =+'1 Annual Goals'!A3 -> Self
A4: =+'1 Annual Goals'!A4 -> Family and friend
A5: =+'1 Annual Goals'!A5 -> Leader
A6: =+'1 Annual Goals'!A6 -> Communicator
A7: =+'1 Annual Goals'!A7 -> Organizer
A8: =+'1 Annual Goals'!A8 -> Financial Management
A9: =+'1 Annual Goals'!A9 -> Sales and Marketing
A10: =+'1 Annual Goals'!A10 -> Customer Relations
A11: =+'1 Annual Goals'!A11 -> Add other Roles
A12: =+'1 Annual Goals'!A12 -> Add Project Name
A13: =+'1 Annual Goals'!A13 -> Add Client Name
A14: =+'1 Annual Goals'!A14 -> 0
... A40: =+'1 Annual Goals'!A40 -> 0
